BEGIN:VCALENDAR
VERSION:2.0
PRODID:-//Bikes for Tykes, Inc. - ECPv6.15.20//NONSGML v1.0//EN
CALSCALE:GREGORIAN
METHOD:PUBLISH
X-WR-CALNAME:Bikes for Tykes, Inc.
X-ORIGINAL-URL:https://bikesfortykes.org
X-WR-CALDESC:Events for Bikes for Tykes, Inc.
REFRESH-INTERVAL;VALUE=DURATION:PT1H
X-Robots-Tag:noindex
X-PUBLISHED-TTL:PT1H
BEGIN:VTIMEZONE
TZID:America/New_York
BEGIN:DAYLIGHT
TZOFFSETFROM:-0500
TZOFFSETTO:-0400
TZNAME:EDT
DTSTART:20250309T070000
END:DAYLIGHT
BEGIN:STANDARD
TZOFFSETFROM:-0400
TZOFFSETTO:-0500
TZNAME:EST
DTSTART:20251102T060000
END:STANDARD
BEGIN:DAYLIGHT
TZOFFSETFROM:-0500
TZOFFSETTO:-0400
TZNAME:EDT
DTSTART:20260308T070000
END:DAYLIGHT
BEGIN:STANDARD
TZOFFSETFROM:-0400
TZOFFSETTO:-0500
TZNAME:EST
DTSTART:20261101T060000
END:STANDARD
BEGIN:DAYLIGHT
TZOFFSETFROM:-0500
TZOFFSETTO:-0400
TZNAME:EDT
DTSTART:20270314T070000
END:DAYLIGHT
BEGIN:STANDARD
TZOFFSETFROM:-0400
TZOFFSETTO:-0500
TZNAME:EST
DTSTART:20271107T060000
END:STANDARD
END:VTIMEZONE
BEGIN:VEVENT
DTSTART;TZID=America/New_York:20260324T120000
DTEND;TZID=America/New_York:20260324T170000
DTSTAMP:20260424T103908
CREATED:20240522T011108Z
LAST-MODIFIED:20240717T043131Z
UID:10006805-1774353600-1774371600@bikesfortykes.org
SUMMARY:Open Shop Day
DESCRIPTION:
URL:https://bikesfortykes.org/event/open-shop-day-3-2/2026-03-24/
LOCATION:FL
END:VEVENT
BEGIN:VEVENT
DTSTART;TZID=America/New_York:20260325T120000
DTEND;TZID=America/New_York:20260325T170000
DTSTAMP:20260424T103908
CREATED:20240522T011108Z
LAST-MODIFIED:20240717T043131Z
UID:10006806-1774440000-1774458000@bikesfortykes.org
SUMMARY:Open Shop Day
DESCRIPTION:
URL:https://bikesfortykes.org/event/open-shop-day-3-2/2026-03-25/
LOCATION:FL
END:VEVENT
BEGIN:VEVENT
DTSTART;TZID=America/New_York:20260326T120000
DTEND;TZID=America/New_York:20260326T170000
DTSTAMP:20260424T103908
CREATED:20240522T011108Z
LAST-MODIFIED:20240717T043131Z
UID:10006807-1774526400-1774544400@bikesfortykes.org
SUMMARY:Open Shop Day
DESCRIPTION:
URL:https://bikesfortykes.org/event/open-shop-day-3-2/2026-03-26/
LOCATION:FL
END:VEVENT
BEGIN:VEVENT
DTSTART;TZID=America/New_York:20260328T090000
DTEND;TZID=America/New_York:20260328T120000
DTSTAMP:20260424T103908
CREATED:20240501T213753Z
LAST-MODIFIED:20240717T233503Z
UID:10007818-1774688400-1774699200@bikesfortykes.org
SUMMARY:Golden Gate Farmer Market - Free Bike Repair
DESCRIPTION:Held at the Golden Gate Community Center at: 4701 Golden Gate Parkway\, Naples\, FL 34116
URL:https://bikesfortykes.org/event/golden-gate-farmer-market-free-bike-repair/2026-03-28/
LOCATION:Golden Gate Community Center\, 4701 Golden Gate Parkway\, Naples\, FL 34116\, Naples\, FL\, 34116\, United States
END:VEVENT
BEGIN:VEVENT
DTSTART;TZID=America/New_York:20260331T120000
DTEND;TZID=America/New_York:20260331T170000
DTSTAMP:20260424T103908
CREATED:20240522T011108Z
LAST-MODIFIED:20240717T043131Z
UID:10006808-1774958400-1774976400@bikesfortykes.org
SUMMARY:Open Shop Day
DESCRIPTION:
URL:https://bikesfortykes.org/event/open-shop-day-3-2/2026-03-31/
LOCATION:FL
END:VEVENT
END:VCALENDAR